BEGIN:VCALENDAR
VERSION:2.0
PRODID:-//hacksw/handcal//NONSGML v1.0//EN
BEGIN:VEVENT
SUMMARY:Seance essai gratuite Roller Hockey enfants
UID:2f803dcd-9871-4272-896c-3238652052fb
DTSTART:20260613T070000Z
DTEND:20260613T080000Z
LOCATION:Localisation   
CATEGORIES:Sportif
STATUS:
URL;VALUE=URI:https://demons-asnieres.sportsregions.fr/evenements/2026/06/13/seance-essai-gratuite-roller-hockey-enfants-2427797
END:VEVENT
END:VCALENDAR
