BEGIN:VCALENDAR
VERSION:2.0
PRODID:-//hacksw/handcal//NONSGML v1.0//EN
BEGIN:VEVENT
SUMMARY:Seance decouverte Roller Hockey Luge
UID:38e3ef77-c05d-4b5a-aff0-82f1b4af7e67
DTSTART:20260613T120000Z
DTEND:20260613T160000Z
LOCATION:Localisation   
CATEGORIES:Manifestation
STATUS:
URL;VALUE=URI:https://demons-asnieres.sportsregions.fr/evenements/2026/06/13/seance-decouverte-roller-hockey-luge-2427784
END:VEVENT
END:VCALENDAR
