BEGIN:VCALENDAR
VERSION:2.0
PRODID:-//hacksw/handcal//NONSGML v1.0//EN
BEGIN:VEVENT
SUMMARY:Seance essai gratuite Roller Hockey enfants
UID:eba08cb7-1935-4c12-acd2-ed185be6a224
DTSTART:20260328T080000Z
DTEND:20260328T090000Z
LOCATION:Localisation   
CATEGORIES:Sportif
STATUS:
URL;VALUE=URI:https://demons-asnieres.sportsregions.fr/evenements/2026/03/28/seance-essai-gratuite-roller-hockey-enfants-2427790
END:VEVENT
END:VCALENDAR
